BEGIN:VCALENDAR
VERSION:2.0
PRODID:-//Amazone asbl - ECPv6.15.20//NONSGML v1.0//EN
CALSCALE:GREGORIAN
METHOD:PUBLISH
X-WR-CALNAME:Amazone asbl
X-ORIGINAL-URL:https://www.amazone.be
X-WR-CALDESC:Évènements pour Amazone asbl
REFRESH-INTERVAL;VALUE=DURATION:PT1H
X-Robots-Tag:noindex
X-PUBLISHED-TTL:PT1H
BEGIN:VTIMEZONE
TZID:Europe/Brussels
BEGIN:DAYLIGHT
TZOFFSETFROM:+0100
TZOFFSETTO:+0200
TZNAME:CEST
DTSTART:20250330T010000
END:DAYLIGHT
BEGIN:STANDARD
TZOFFSETFROM:+0200
TZOFFSETTO:+0100
TZNAME:CET
DTSTART:20251026T010000
END:STANDARD
BEGIN:DAYLIGHT
TZOFFSETFROM:+0100
TZOFFSETTO:+0200
TZNAME:CEST
DTSTART:20260329T010000
END:DAYLIGHT
BEGIN:STANDARD
TZOFFSETFROM:+0200
TZOFFSETTO:+0100
TZNAME:CET
DTSTART:20261025T010000
END:STANDARD
BEGIN:DAYLIGHT
TZOFFSETFROM:+0100
TZOFFSETTO:+0200
TZNAME:CEST
DTSTART:20270328T010000
END:DAYLIGHT
BEGIN:STANDARD
TZOFFSETFROM:+0200
TZOFFSETTO:+0100
TZNAME:CET
DTSTART:20271031T010000
END:STANDARD
END:VTIMEZONE
BEGIN:VEVENT
DTSTART;VALUE=DATE:20260119
DTEND;VALUE=DATE:20260129
DTSTAMP:20260423T213216
CREATED:20260106T085747Z
LAST-MODIFIED:20260106T085747Z
UID:23885-1768780800-1769644799@www.amazone.be
SUMMARY:Atelier 'Les héroïnes' : coaching emploi pour les mères et les femmes
DESCRIPTION:Cet atelier ‘Les héroïnes’ en coaching emploi\, vous accompagne pendant 6 jours pour clarifier votre parcours passé personnel et professionnel pour mieux construire le futur et le présent\, pas à pas. \nPublic : les femmes en recherche d’emploi \nPrix : Gratuit (10 femmes) \nDates : 19\, 20\, 21 et 26\, 27\, 28 janvier \nInfos et inscriptions : Astrid Mertens au 0478/29.71.63 \nLieu : Amazone asbl (Madou)
URL:https://www.amazone.be/event/atelier-les-heroines-coaching-emploi-pour-les-meres-et-les-femmes/
LOCATION:Amazone asbl\, Rue du Méridien 10\,\, Bruxelles\, 1210\, Belgique
CATEGORIES:Événements féministes,Partenaire Amazone
END:VEVENT
END:VCALENDAR