BEGIN:VCALENDAR
VERSION:2.0
PRODID:-//Amazone asbl - ECPv6.15.20//NONSGML v1.0//EN
CALSCALE:GREGORIAN
METHOD:PUBLISH
X-WR-CALNAME:Amazone asbl
X-ORIGINAL-URL:https://www.amazone.be
X-WR-CALDESC:Évènements pour Amazone asbl
REFRESH-INTERVAL;VALUE=DURATION:PT1H
X-Robots-Tag:noindex
X-PUBLISHED-TTL:PT1H
BEGIN:VTIMEZONE
TZID:Europe/Brussels
BEGIN:DAYLIGHT
TZOFFSETFROM:+0100
TZOFFSETTO:+0200
TZNAME:CEST
DTSTART:20250330T010000
END:DAYLIGHT
BEGIN:STANDARD
TZOFFSETFROM:+0200
TZOFFSETTO:+0100
TZNAME:CET
DTSTART:20251026T010000
END:STANDARD
BEGIN:DAYLIGHT
TZOFFSETFROM:+0100
TZOFFSETTO:+0200
TZNAME:CEST
DTSTART:20260329T010000
END:DAYLIGHT
BEGIN:STANDARD
TZOFFSETFROM:+0200
TZOFFSETTO:+0100
TZNAME:CET
DTSTART:20261025T010000
END:STANDARD
BEGIN:DAYLIGHT
TZOFFSETFROM:+0100
TZOFFSETTO:+0200
TZNAME:CEST
DTSTART:20270328T010000
END:DAYLIGHT
BEGIN:STANDARD
TZOFFSETFROM:+0200
TZOFFSETTO:+0100
TZNAME:CET
DTSTART:20271031T010000
END:STANDARD
END:VTIMEZONE
BEGIN:VEVENT
DTSTART;TZID=Europe/Brussels:20260508T180000
DTEND;TZID=Europe/Brussels:20260508T210000
DTSTAMP:20260422T160328
CREATED:20260421T141758Z
LAST-MODIFIED:20260421T141759Z
UID:25620-1778263200-1778274000@www.amazone.be
SUMMARY:Ciné-Club ÇA S'DÉBAT : Comment partir en vacances quand on est fauché.e/empêché.e ?
DESCRIPTION:Peut-on voyager sans aller loin ? 4 films / 4 astuces / 1 playlist d’aéroport pour voyager fauché.e\n\nProjection de quatre courts métrages\, suivie d’une discussion avec les jeunes du collectif On y va ! et une partie de l’équipe de CTM.\n\n\nPALESTINE ISLANDS\nNour Ben Salem\, Julien Menanteau\, France/Palestine\, 2023\, 22’\nPALMA\nAlexe Poukine\, Belgique\, 2020\, 39′\nCTM\nCollectif Des Blocs\, Karim Akalay\, Belgique\, 2018\, 20’\n\n\n\nMÉTÉORES\nMorgane Le Péchon\, Agnès Patron\, France\, 2023\, 4’\n\n\nVENDREDI 8 MAI à 18h\nGratuit\, à la Maison Amazone\, Rue du Méridien 10\, 1210 Saint-Josse\n\nRÉSERVER \n\n18h – Accueil et playlist d’aéroport\n🥗 🥧 N’oubliez pas d’apporter de quoi grignoter avant la projection 🍕🌮\n18h30 – Projection des 4 films\n20h30 – Discussion animée par les jeunes du collectif On y va ! en présence des réalisateur·rices de 6TM et Palma (sous réserve).\n\nÇA S’DÉBAT !?  est un rendez-vous mensuel participatif et gratuit où tous.tes se retrouvent autour de courts métrages et d’un grignotage convivial\, dans la Maison Amazone\, propice aux échanges d’opinions. Le débat est animé par le Collectif ON Y VA ! du Service de Santé Mentale le Méridien
URL:https://www.amazone.be/event/cine-club-ca-sdebat-comment-partir-en-vacances-quand-on-est-fauche-e-empeche-e/
LOCATION:Amazone asbl\, Rue du Méridien 10\,\, Bruxelles\, 1210\, Belgique
CATEGORIES:Événement association habitante,Événements Amazone,Événements féministes,Partenaire Amazone
END:VEVENT
END:VCALENDAR