BEGIN:VCALENDAR
VERSION:2.0
PRODID:-//Amazone asbl - ECPv6.15.20//NONSGML v1.0//EN
CALSCALE:GREGORIAN
METHOD:PUBLISH
X-WR-CALNAME:Amazone asbl
X-ORIGINAL-URL:https://www.amazone.be
X-WR-CALDESC:Évènements pour Amazone asbl
REFRESH-INTERVAL;VALUE=DURATION:PT1H
X-Robots-Tag:noindex
X-PUBLISHED-TTL:PT1H
BEGIN:VTIMEZONE
TZID:Europe/Brussels
BEGIN:DAYLIGHT
TZOFFSETFROM:+0100
TZOFFSETTO:+0200
TZNAME:CEST
DTSTART:20250330T010000
END:DAYLIGHT
BEGIN:STANDARD
TZOFFSETFROM:+0200
TZOFFSETTO:+0100
TZNAME:CET
DTSTART:20251026T010000
END:STANDARD
BEGIN:DAYLIGHT
TZOFFSETFROM:+0100
TZOFFSETTO:+0200
TZNAME:CEST
DTSTART:20260329T010000
END:DAYLIGHT
BEGIN:STANDARD
TZOFFSETFROM:+0200
TZOFFSETTO:+0100
TZNAME:CET
DTSTART:20261025T010000
END:STANDARD
BEGIN:DAYLIGHT
TZOFFSETFROM:+0100
TZOFFSETTO:+0200
TZNAME:CEST
DTSTART:20270328T010000
END:DAYLIGHT
BEGIN:STANDARD
TZOFFSETFROM:+0200
TZOFFSETTO:+0100
TZNAME:CET
DTSTART:20271031T010000
END:STANDARD
END:VTIMEZONE
BEGIN:VEVENT
DTSTART;TZID=Europe/Brussels:20260212T084500
DTEND;TZID=Europe/Brussels:20260212T133000
DTSTAMP:20260424T011103
CREATED:20260116T160928Z
LAST-MODIFIED:20260116T160928Z
UID:24065-1770885900-1770903000@www.amazone.be
SUMMARY:Conférence/débat : Vieillir mal logé.e ou sans chez soi : Quand la précarité Malmène nos ainée.es (RBDH)
DESCRIPTION:A Bruxelles\, 18% des plus de 65 ans souffrent de privation sociale et matérielle. Les fins de mois difficiles\, le budget impossible à boucler\, ils et elles connaissent bien. Ce sont souvent des locataires et pas des plus beaux logements bruxellois. Avec l’âge\, surgissent de nouveaux problèmes\, de nouvelles dépenses\, de nouvelles précarités. Parmi les 10000 personnes sans chez soi recensées lors du dernier dénombrement bruxellois\, une part non négligeable vieillit en rue et dans les centres d’hébergement d’urgence\, parfois depuis longtemps\, sans réelle perspective. Certain.es sont sans papiers. \nLe RBDH a publié récemment une étude qui traite de la précarité des conditions de vie et de logement des\nainé.es bruxellois.es (à lire ici et là ). La privation de logement chez les personnes vieillissantes et âgées et ses\nconséquences dramatiques y occupent une place centrale. Celle-ci devrait faire l’objet de la même\npréoccupation au niveau politique. \nPour faire résonance à ce travail\, le RBDH vous invite à un moment d’écoute et d’échanges avec des\nintervenantes du social qui connaissent bien cette problématique et s’engagent aux côtés des publics.\nPour sortir des constats désespérants et avancer vers des solutions durables. \nNos invitées : \n– Adèle Pierre\, conseillère-dénombrement au sein de la cellule recherche et action de Bruss’help\n– Marthe Frieden\, médecin et Clémence Guérin\, chargée de l’accompagnement social au New SamuSocial\,\ncentre pour personnes vulnérables et médicalisées Prince de Liège\n– Zaila Vandersteen\, travailleuse de rue de DIOGENES\n– Sabine François\, adjointe à la direction d’Infor-Homes Bruxelles\n– Valentine Peren\, coordinatrice du projet Housing First en maison de repos\, Senior Montessori\n– Nathalie Parmentier\, coordinatrice générale et Aurélie Alcouffe\, référente habitants\, Maison Biloba huis \nA cette occasion\, vous pourrez également découvrir les témoignages d’Angélique\, de Francine et de Géraldine\, d’Anne-Marie et de Ferdinand au travers de la nouvelle installationsonoreduRBDH\,Unevieàhabiter. \nOù ? AMAZONE asbl\, rue du Méridien 10 à 1210 Bruxelles\nQuand ? Le jeudi 12 février 2026 de 8h45 à 13h30\nConférence gratuite. Pour vous inscrire\, veuillez compléter le formulaire en ligne
URL:https://www.amazone.be/event/conference-debat-vieillir-mal-loge-e-ou-sans-chez-soi/
LOCATION:Amazone asbl\, Rue du Méridien 10\,\, Bruxelles\, 1210\, Belgique
CATEGORIES:Événements féministes
END:VEVENT
END:VCALENDAR