BEGIN:VCALENDAR
VERSION:2.0
PRODID:-//Amazone asbl - ECPv6.15.20//NONSGML v1.0//EN
CALSCALE:GREGORIAN
METHOD:PUBLISH
X-WR-CALNAME:Amazone asbl
X-ORIGINAL-URL:https://www.amazone.be
X-WR-CALDESC:Évènements pour Amazone asbl
REFRESH-INTERVAL;VALUE=DURATION:PT1H
X-Robots-Tag:noindex
X-PUBLISHED-TTL:PT1H
BEGIN:VTIMEZONE
TZID:Europe/Brussels
BEGIN:DAYLIGHT
TZOFFSETFROM:+0100
TZOFFSETTO:+0200
TZNAME:CEST
DTSTART:20240331T010000
END:DAYLIGHT
BEGIN:STANDARD
TZOFFSETFROM:+0200
TZOFFSETTO:+0100
TZNAME:CET
DTSTART:20241027T010000
END:STANDARD
BEGIN:DAYLIGHT
TZOFFSETFROM:+0100
TZOFFSETTO:+0200
TZNAME:CEST
DTSTART:20250330T010000
END:DAYLIGHT
BEGIN:STANDARD
TZOFFSETFROM:+0200
TZOFFSETTO:+0100
TZNAME:CET
DTSTART:20251026T010000
END:STANDARD
BEGIN:DAYLIGHT
TZOFFSETFROM:+0100
TZOFFSETTO:+0200
TZNAME:CEST
DTSTART:20260329T010000
END:DAYLIGHT
BEGIN:STANDARD
TZOFFSETFROM:+0200
TZOFFSETTO:+0100
TZNAME:CET
DTSTART:20261025T010000
END:STANDARD
END:VTIMEZONE
BEGIN:VEVENT
DTSTART;TZID=Europe/Brussels:20250516T090000
DTEND;TZID=Europe/Brussels:20250516T180000
DTSTAMP:20260421T130634
CREATED:20250429T085627Z
LAST-MODIFIED:20250502T110330Z
UID:19878-1747386000-1747418400@www.amazone.be
SUMMARY:Journée de réflexions sur la loi portant des dispositions en matière du travail du sexe et de la traite des êtres humains et l’exploitation sexuelle
DESCRIPTION:Soralia\, le Conseil de l’Egalité des Chances entre les Hommes et les Femmes et la Ligue des Droits humains vous invitent à une journée d’informations et de réflexions autour de la nouvelle loi portant des dispositions en matière du travail du sexe et de la traite des êtres humains et l’exploitation sexuelle. \nAu programme : \n\n9h – 9h30 : Accueil café et introduction à la journée.\n9h30 – 12h30 : La matinée sera consacrée à l’explication de la loi du 3 mai 2024 portant des dispositions en matière du travail du sexe\, par des analystes\, les partenaires sociaux de la commission paritaire de l’Horeca\, les services de contrôle du Bien -être au travail\, des polices\,….\n12h30 – 14h : Repas de midi : sandwichs et boissons offert.e.s.\n14h – 16h30 : Interpellations quant aux enjeux en matière de lutte contre la traite des êtres humains et l’exploitation sexuelle\, avec des intervenant.e.s du Parlement fédéral\, le DGDE et des associations de terrain.\n16h30 – 17h : Constitution d’une plateforme de veille quant à l’effectivité de la réglementation.\n17h – 18h : Clôture de la journée par un drink.\n\nEvénement gratuit. L’inscription est obligatoire ici (avant le 9 mai)\, les places sont limitées. L’inscription implique la participation à toute la journée !
URL:https://www.amazone.be/event/journee-de-reflexions-sur-la-loi-travail-du-sexe/
LOCATION:Amazone asbl\, Rue du Méridien 10\,\, Bruxelles\, 1210\, Belgique
CATEGORIES:Événements féministes
END:VEVENT
END:VCALENDAR