BEGIN:VCALENDAR
VERSION:2.0
PRODID:-//Amazone asbl - ECPv6.15.20//NONSGML v1.0//EN
CALSCALE:GREGORIAN
METHOD:PUBLISH
X-WR-CALNAME:Amazone asbl
X-ORIGINAL-URL:https://www.amazone.be
X-WR-CALDESC:Évènements pour Amazone asbl
REFRESH-INTERVAL;VALUE=DURATION:PT1H
X-Robots-Tag:noindex
X-PUBLISHED-TTL:PT1H
BEGIN:VTIMEZONE
TZID:Europe/Brussels
BEGIN:DAYLIGHT
TZOFFSETFROM:+0100
TZOFFSETTO:+0200
TZNAME:CEST
DTSTART:20240331T010000
END:DAYLIGHT
BEGIN:STANDARD
TZOFFSETFROM:+0200
TZOFFSETTO:+0100
TZNAME:CET
DTSTART:20241027T010000
END:STANDARD
BEGIN:DAYLIGHT
TZOFFSETFROM:+0100
TZOFFSETTO:+0200
TZNAME:CEST
DTSTART:20250330T010000
END:DAYLIGHT
BEGIN:STANDARD
TZOFFSETFROM:+0200
TZOFFSETTO:+0100
TZNAME:CET
DTSTART:20251026T010000
END:STANDARD
BEGIN:DAYLIGHT
TZOFFSETFROM:+0100
TZOFFSETTO:+0200
TZNAME:CEST
DTSTART:20260329T010000
END:DAYLIGHT
BEGIN:STANDARD
TZOFFSETFROM:+0200
TZOFFSETTO:+0100
TZNAME:CET
DTSTART:20261025T010000
END:STANDARD
END:VTIMEZONE
BEGIN:VEVENT
DTSTART;TZID=Europe/Brussels:20250522T090000
DTEND;TZID=Europe/Brussels:20250522T170000
DTSTAMP:20260421T102541
CREATED:20250505T101550Z
LAST-MODIFIED:20250505T101550Z
UID:19901-1747904400-1747933200@www.amazone.be
SUMMARY:Journée d'étude | Jeux vidéo : les cyber-violences\, une fatalité ? (Université des Femmes)
DESCRIPTION:Cette journée d’étude de l’Université des Femmes vise à explorer les discriminations\, en particulier liées au genre\, qui prolifèrent dans l’industrie des jeux vidéo. Alors que l’importance économique du secteur grandit chaque année\, une grande méconnaissance demeure sur les violences subies quotidiennement par de nombreuses joueuses. Elles peuvent aussi bien dériver de la production des jeux eux-mêmes\, de l’architecture des espaces de jeux en ligne et\, bien sûr\, de l’attitude des joueurs.\nEn partenariat avec Witch Gamez\, Women in Games\, Stream’Her\, Game’Her et Afrogameuses. \n\nProgramme\n\n9h : Accueil\n9h30-11h30 : Introduction sur le sexisme dans les jeux vidéos avec interventions des associations organisatrices\n11h30-13h : Témoignages de joueuses et de streameuses\, temps de paroles et d’échanges\n13h-14h : Pause midi\n14h-15h30 : Table ronde « Réguler la parole dans les jeux-vidéos : oui mais comment ? » ; avec Antoine Delforge – Assistant et chercheur en droit à l’UNamur\n15h30-17h00 : Table ronde « La modération : un enjeu politique » ; avec le collectif de personnes minorisées Pixielles et la collective Chayn qui utilise les technologies pour lutter contre les cyberviolences.\n\nQuand et où ?22 mai 2025 | 9h à 17h\, Maison Amazone\, 10 rue du Méridien\, 1210 Bruxelles\nGRATUIT mais inscriptions obligatoires à l’adresse inscriptions@universitedesfemmes.be\n\nApportez vos tartines ! Les boissons seront offertes\, mais pas le repas.\nSi vous deviez avoir un empêchement\, merci de nous en aviser via la même adresse courriel.\n\nDans le cadre des activités d’éducation permanente soutenues par la Fédération Wallonie-Bruxelles
URL:https://www.amazone.be/event/journee-detude-jeux-video-les-cyber-violences-une-fatalite-universite-des-femmes/
LOCATION:Amazone asbl\, Rue du Méridien 10\,\, Bruxelles\, 1210\, Belgique
CATEGORIES:Événement association habitante
END:VEVENT
END:VCALENDAR