BEGIN:VCALENDAR
VERSION:2.0
PRODID:-//Amazone asbl - ECPv6.15.20//NONSGML v1.0//EN
CALSCALE:GREGORIAN
METHOD:PUBLISH
X-WR-CALNAME:Amazone asbl
X-ORIGINAL-URL:https://www.amazone.be
X-WR-CALDESC:Évènements pour Amazone asbl
REFRESH-INTERVAL;VALUE=DURATION:PT1H
X-Robots-Tag:noindex
X-PUBLISHED-TTL:PT1H
BEGIN:VTIMEZONE
TZID:Europe/Brussels
BEGIN:DAYLIGHT
TZOFFSETFROM:+0100
TZOFFSETTO:+0200
TZNAME:CEST
DTSTART:20250330T010000
END:DAYLIGHT
BEGIN:STANDARD
TZOFFSETFROM:+0200
TZOFFSETTO:+0100
TZNAME:CET
DTSTART:20251026T010000
END:STANDARD
BEGIN:DAYLIGHT
TZOFFSETFROM:+0100
TZOFFSETTO:+0200
TZNAME:CEST
DTSTART:20260329T010000
END:DAYLIGHT
BEGIN:STANDARD
TZOFFSETFROM:+0200
TZOFFSETTO:+0100
TZNAME:CET
DTSTART:20261025T010000
END:STANDARD
BEGIN:DAYLIGHT
TZOFFSETFROM:+0100
TZOFFSETTO:+0200
TZNAME:CEST
DTSTART:20270328T010000
END:DAYLIGHT
BEGIN:STANDARD
TZOFFSETFROM:+0200
TZOFFSETTO:+0100
TZNAME:CET
DTSTART:20271031T010000
END:STANDARD
END:VTIMEZONE
BEGIN:VEVENT
DTSTART;TZID=Europe/Brussels:20260416T090000
DTEND;TZID=Europe/Brussels:20260416T210000
DTSTAMP:20260423T163447
CREATED:20260305T112612Z
LAST-MODIFIED:20260305T112612Z
UID:24958-1776330000-1776373200@www.amazone.be
SUMMARY:Le Centre Féminin d'Education Permanente fête ses 70 ans
DESCRIPTION:À l’occasion de ses 70 ans\, le Centre Féminin d’Éducation Permanente (CFEP) organise une journée anniversaire exceptionnelle le 16 avril 2026. Cette journée se veut un moment fort de rencontres\, de réflexion et de célébration\, fidèle aux valeurs qui animent le CFEP depuis sa création. \nAteliers participatifs\, temps d’échanges\, conférence\, moments créatifs et soirée festive rythmeront cette journée placée sous le signe de l’engagement féministe\, de l’éducation permanente\, de l’égalité des droits\, de l’interculturalité et du vivre-ensemble. Elle réunira participantes\, membres\, partenaires et invité·e·s pour revenir sur 70 ans d’actions et se projeter collectivement vers l’avenir. \nUne invitation à célébrer le chemin parcouru\, à valoriser les luttes des femmes et à continuer\, ensemble\, à construire une société plus juste et solidaire. \nDécouvrez le programme complet et les modalités d’inscription ici : Notre anniversaire – Programme et inscriptions – CFEP
URL:https://www.amazone.be/event/le-centre-feminin-deducation-permanente-fete-ses-70-ans/
CATEGORIES:Événement association habitante,Événements féministes
END:VEVENT
END:VCALENDAR