BEGIN:VCALENDAR
VERSION:2.0
PRODID:-//Amazone asbl - ECPv6.15.20//NONSGML v1.0//EN
CALSCALE:GREGORIAN
METHOD:PUBLISH
X-WR-CALNAME:Amazone asbl
X-ORIGINAL-URL:https://www.amazone.be
X-WR-CALDESC:Évènements pour Amazone asbl
REFRESH-INTERVAL;VALUE=DURATION:PT1H
X-Robots-Tag:noindex
X-PUBLISHED-TTL:PT1H
BEGIN:VTIMEZONE
TZID:Europe/Brussels
BEGIN:DAYLIGHT
TZOFFSETFROM:+0100
TZOFFSETTO:+0200
TZNAME:CEST
DTSTART:20250330T010000
END:DAYLIGHT
BEGIN:STANDARD
TZOFFSETFROM:+0200
TZOFFSETTO:+0100
TZNAME:CET
DTSTART:20251026T010000
END:STANDARD
BEGIN:DAYLIGHT
TZOFFSETFROM:+0100
TZOFFSETTO:+0200
TZNAME:CEST
DTSTART:20260329T010000
END:DAYLIGHT
BEGIN:STANDARD
TZOFFSETFROM:+0200
TZOFFSETTO:+0100
TZNAME:CET
DTSTART:20261025T010000
END:STANDARD
BEGIN:DAYLIGHT
TZOFFSETFROM:+0100
TZOFFSETTO:+0200
TZNAME:CEST
DTSTART:20270328T010000
END:DAYLIGHT
BEGIN:STANDARD
TZOFFSETFROM:+0200
TZOFFSETTO:+0100
TZNAME:CET
DTSTART:20271031T010000
END:STANDARD
END:VTIMEZONE
BEGIN:VEVENT
DTSTART;TZID=Europe/Brussels:20260522T173000
DTEND;TZID=Europe/Brussels:20260522T203000
DTSTAMP:20260421T120617
CREATED:20260420T153604Z
LAST-MODIFIED:20260420T153605Z
UID:25609-1779471000-1779481800@www.amazone.be
SUMMARY:Projection du film « Un nom à soi » de Patricia Niedzwiecki
DESCRIPTION:« Un nom à soi »\n‘A Name of One’s Own’\nUn film de Patricia Niedzwiecki\nAvec Benoîte Groult et Frances Alexander \nLe titre du film de Patricia Niedzwiecki avec Benoîte Groult et Frances Alexander s’inspire du pilier littéraire de Virginia Woolf ‘A Room Of One’s Own’ publié en 1929. Dans le film « Un nom à soi »\, Benoîte Groult retrace cent ans de féminisme au travers de sa propre carrière de romancière féministe. Elle évoque aussi largement les avancées qui ont permis une visibilité de plus en plus prégnante des femmes et du « fait féminin » dans nos sociétés. C’est également le propos de la politique anglaise Frances Alexander qui revient sur les aléas de sa vie de travailleuse (sage-femme et maire de sa ville). \nA l’aune de sa carrière atypique\, l’auteure d’ « Ainsi soit-elle » retrace un siècle d’avancées féministes et sociales\, et s’interroge à propos sur le sort des nouvelles générations. Complices\, les deux femmes se sont retrouvées « en féminisation ». Féminisation de la société\, certes\, mais également de la langue et du langage\, dont Benoîte Groult dénonçait le sexisme ambiant. Un film-testament\, tourné quelques années avant la disparition de cette pionnière qui participa à libérer un peu plus les femmes d’une condition écrasante\, \nRenseignements utiles :\nVendredi 22 mai 2026 dès 17h30\nMAISON AMAZONE (10\, rue du Méridien à Saint-Josse\, M° Botanique).\nPrésentation du Projet « Femilang » suivie de la projection-débat\,\nUn verre offert accompagne chaque inscription.
URL:https://www.amazone.be/event/projection-du-film-un-nom-a-soi-de-patricia-niedzwiecki/
LOCATION:Amazone asbl\, Rue du Méridien 10\,\, Bruxelles\, 1210\, Belgique
CATEGORIES:Événements Amazone,Événements féministes,Partenaire Amazone
END:VEVENT
END:VCALENDAR