BEGIN:VCALENDAR
VERSION:2.0
PRODID:-//Amazone asbl - ECPv6.15.20//NONSGML v1.0//EN
CALSCALE:GREGORIAN
METHOD:PUBLISH
X-WR-CALNAME:Amazone asbl
X-ORIGINAL-URL:https://www.amazone.be
X-WR-CALDESC:Évènements pour Amazone asbl
REFRESH-INTERVAL;VALUE=DURATION:PT1H
X-Robots-Tag:noindex
X-PUBLISHED-TTL:PT1H
BEGIN:VTIMEZONE
TZID:Europe/Brussels
BEGIN:DAYLIGHT
TZOFFSETFROM:+0100
TZOFFSETTO:+0200
TZNAME:CEST
DTSTART:20240331T010000
END:DAYLIGHT
BEGIN:STANDARD
TZOFFSETFROM:+0200
TZOFFSETTO:+0100
TZNAME:CET
DTSTART:20241027T010000
END:STANDARD
BEGIN:DAYLIGHT
TZOFFSETFROM:+0100
TZOFFSETTO:+0200
TZNAME:CEST
DTSTART:20250330T010000
END:DAYLIGHT
BEGIN:STANDARD
TZOFFSETFROM:+0200
TZOFFSETTO:+0100
TZNAME:CET
DTSTART:20251026T010000
END:STANDARD
BEGIN:DAYLIGHT
TZOFFSETFROM:+0100
TZOFFSETTO:+0200
TZNAME:CEST
DTSTART:20260329T010000
END:DAYLIGHT
BEGIN:STANDARD
TZOFFSETFROM:+0200
TZOFFSETTO:+0100
TZNAME:CET
DTSTART:20261025T010000
END:STANDARD
END:VTIMEZONE
BEGIN:VEVENT
DTSTART;TZID=Europe/Brussels:20251203T133000
DTEND;TZID=Europe/Brussels:20251203T210000
DTSTAMP:20260420T105830
CREATED:20251125T095422Z
LAST-MODIFIED:20251125T132138Z
UID:22887-1764768600-1764795600@www.amazone.be
SUMMARY:Rencontre autour des violences de genre faites aux femmes sans papiers ou en séjour précaire (CIRÉ)
DESCRIPTION:Le mercredi 3 décembre 2025 de 14h à 20h30 \nAu Théâtre Marni\, 25 rue de Vergnies à 1050 Bruxelles \nIl existe peu de données sur la situation des femmes sans papiers ou en séjour précaire qui vivent en Belgique. Encore moins sur les discriminations et violences qu’elles vivent au quotidien. \nVoilà presque 10 ans que la Belgique a ratifié la Convention d’Istanbul qui l’oblige à mettre en œuvre des mesures de lutte contre les violences faites à toutes les femmes. Depuis lors\, aucune mesure concrète n’a été prise pour protéger ces femmes particulièrement exposées aux violences sexistes\, racistes et institutionnelles. \nÀ la veille du futur Plan d’action national de lutte contre les violences faites aux femmes\, il nous semblait important de réunir les acteur·rices et secteurs concerné·es\, de rassembler nos forces et de réfléchir ensemble aux actions à mener. \nProgramme\n13h30: accueil\n14h00: présentation de la recherche « La vulnérabilité des femmes sans titre de séjour en Belgique face aux violences de genre » par Teuta Hadri (ULB)\, Sandrine Tshibangu (Comité des femmes sans papiers) et Evelyne Ayong (Collectif formation société)\n15h00: intervention de femmes expertes du vécu du Centre de prévention des violences conjugales et familiales (CPVCF)\n16h30-17h45: panel de discussion avec \nSarah Schlitz (députée fédérale\, à l’initiative de la recherche présentée)\nSandrine Tshibangu (Comité des femmes sans papiers)\nEvelyne Ayong (Collectif formation société)\nYamina Zaazaa (co-directrice du centre de prévention des violences conjugales et familiales)\nJustine Dofal (chargée de projets à l’Ilot et coordinatrice du centre d’expertise Femmes\, Précarité\, Travail social)\nJente Konings (GAMS et Coalition genre et migration)\n18h-18h30: concert de la Chorale « Les invisibles »\, Comité des Femmes sans papiers\n19h00: projection du documentaire « Fatima\, Redwane et moi »\, de Bernadette Saint-Rémi (Belgique\, 2021)>\n20h00: débat avec la réalisatrice\, la protagoniste et Sotieta Ngo\, directrice du CIRÉ \nEntrée gratuite\, inscription souhaitée via ce formulaire : Rencontre autour des violences de genre faites aux femmes sans papiers ou en séjour précaire
URL:https://www.amazone.be/event/rencontre-autour-des-violences-de-genre-faites-aux-femmes-sans-papiers-ou-en-sejour-precaire-cire/
LOCATION:Théâtre Marni\, Rue de Vergnies 25\, Ixelles\, 1050\, Belgium
CATEGORIES:Événements féministes
END:VEVENT
END:VCALENDAR