BEGIN:VCALENDAR
VERSION:2.0
PRODID:-//Amazone asbl - ECPv6.15.20//NONSGML v1.0//EN
CALSCALE:GREGORIAN
METHOD:PUBLISH
X-WR-CALNAME:Amazone asbl
X-ORIGINAL-URL:https://www.amazone.be
X-WR-CALDESC:Évènements pour Amazone asbl
REFRESH-INTERVAL;VALUE=DURATION:PT1H
X-Robots-Tag:noindex
X-PUBLISHED-TTL:PT1H
BEGIN:VTIMEZONE
TZID:Europe/Brussels
BEGIN:DAYLIGHT
TZOFFSETFROM:+0100
TZOFFSETTO:+0200
TZNAME:CEST
DTSTART:20240331T010000
END:DAYLIGHT
BEGIN:STANDARD
TZOFFSETFROM:+0200
TZOFFSETTO:+0100
TZNAME:CET
DTSTART:20241027T010000
END:STANDARD
BEGIN:DAYLIGHT
TZOFFSETFROM:+0100
TZOFFSETTO:+0200
TZNAME:CEST
DTSTART:20250330T010000
END:DAYLIGHT
BEGIN:STANDARD
TZOFFSETFROM:+0200
TZOFFSETTO:+0100
TZNAME:CET
DTSTART:20251026T010000
END:STANDARD
BEGIN:DAYLIGHT
TZOFFSETFROM:+0100
TZOFFSETTO:+0200
TZNAME:CEST
DTSTART:20260329T010000
END:DAYLIGHT
BEGIN:STANDARD
TZOFFSETFROM:+0200
TZOFFSETTO:+0100
TZNAME:CET
DTSTART:20261025T010000
END:STANDARD
END:VTIMEZONE
BEGIN:VEVENT
DTSTART;VALUE=DATE:20250918
DTEND;VALUE=DATE:20250921
DTSTAMP:20260424T065025
CREATED:20250627T103825Z
LAST-MODIFIED:20250903T100916Z
UID:20379-1758153600-1758412799@www.amazone.be
SUMMARY:Festival Journées féministes | Feministische dagen - Violences économiques | Economisch geweld (Amazone)
DESCRIPTION:Les Journées féministes\, festival annuel d’Amazone\, font leur grand retour à la rentrée\, du jeudi 18 au samedi 20 septembre 2025. Cette année\, le festival aura pour thème les violences économiques 💸 \nTrois jours de conférences\, d’ateliers\, d’expos\, de projections de films\, de visites guidées\, de performances et de jeux thématiques. \n🔗Retrouvez ici le programme et tous les liens d’inscription vers les différents événements et ateliers (gratuits). \n📍 Lieu : Amazone asbl\, Rue du Méridien 10\, 1210 Bruxelles🚗 Parking voiture : Rue de l’Union 3🚲 Parking vélo : dans la cour intérieure🍹 Bar sur place👶 Service de garderie disponible🎉 Tous les événements sont gratuits \n📨Pas encore inscrit·e à notre newsletter ? Pour ne rien rater des actualités féministes\, de nos événements et ceux de nos associations habitantes mais aussi du secteur féministe en général\, d’articles thématiques ou encore d’offres d’emploi\, inscrivez-vous en un clic ici. \n*********** \nDe Feministische dagen van Amazone zijn terug van donderdag 18 t.e.m. zaterdag 20 september 2025! Dit jaar draait alles rond economische geweld 💸 \nDrie dagen vol conferenties\, workshops\, exposities\, filmvertoningen\, rondleidingen\, optredens en thematische spellen. \n🔗 Hier vind je het programma en alle inschrijvingslinks voor de verschillende (gratis) evenementen en workshops. \n📍 Locatie : Amazone vzw\, Middaglijnstraat 10\, 1210 Brussel🚗 Autoparking : Uniestraat 3 🚲 Fietsenstalling : op de binnenkoer🍹 Bar ter plaatse👶 Kinderopvang beschikbaar🎉 Alle activiteiten zijn gratis \n📨 Nog niet ingeschreven op onze nieuwsbrief? Wil je niets missen van feministisch nieuws\, onze evenementen en die van onze bewoonstersorganisaties\, of meer weten over de feministische sector in het algemeen\, thematische artikelen of zelfs vacatures? Schrijf je dan met één klik in via deze link.
URL:https://www.amazone.be/event/save-the-date-journees-feministes-feministische-dagen-violences-economiques-economisch-geweld-amazone/
LOCATION:Amazone asbl\, Rue du Méridien 10\,\, Bruxelles\, 1210\, Belgique
CATEGORIES:Événement association habitante,Événements Amazone
END:VEVENT
END:VCALENDAR