BEGIN:VCALENDAR
VERSION:2.0
PRODID:-//Amazone asbl - ECPv6.15.20//NONSGML v1.0//EN
CALSCALE:GREGORIAN
METHOD:PUBLISH
X-WR-CALNAME:Amazone asbl
X-ORIGINAL-URL:https://www.amazone.be
X-WR-CALDESC:Évènements pour Amazone asbl
REFRESH-INTERVAL;VALUE=DURATION:PT1H
X-Robots-Tag:noindex
X-PUBLISHED-TTL:PT1H
BEGIN:VTIMEZONE
TZID:Europe/Brussels
BEGIN:DAYLIGHT
TZOFFSETFROM:+0100
TZOFFSETTO:+0200
TZNAME:CEST
DTSTART:20250330T010000
END:DAYLIGHT
BEGIN:STANDARD
TZOFFSETFROM:+0200
TZOFFSETTO:+0100
TZNAME:CET
DTSTART:20251026T010000
END:STANDARD
BEGIN:DAYLIGHT
TZOFFSETFROM:+0100
TZOFFSETTO:+0200
TZNAME:CEST
DTSTART:20260329T010000
END:DAYLIGHT
BEGIN:STANDARD
TZOFFSETFROM:+0200
TZOFFSETTO:+0100
TZNAME:CET
DTSTART:20261025T010000
END:STANDARD
BEGIN:DAYLIGHT
TZOFFSETFROM:+0100
TZOFFSETTO:+0200
TZNAME:CEST
DTSTART:20270328T010000
END:DAYLIGHT
BEGIN:STANDARD
TZOFFSETFROM:+0200
TZOFFSETTO:+0100
TZNAME:CET
DTSTART:20271031T010000
END:STANDARD
END:VTIMEZONE
BEGIN:VEVENT
DTSTART;TZID=Europe/Brussels:20260116T180000
DTEND;TZID=Europe/Brussels:20260116T220000
DTSTAMP:20260423T233046
CREATED:20260107T124026Z
LAST-MODIFIED:20260107T124027Z
UID:23890-1768586400-1768600800@www.amazone.be
SUMMARY:Vernissage 16 janvier | Voies des femmes : l'immigration marocaine en Belgique (AWSA)
DESCRIPTION:AWSA-Be (Arab Women’s Solidarity Association – Belgium) a le plaisir de vous inviter au vernissage de l’exposition-photos Voies des femmes : l’immigration marocaine en Belgique qui se tiendra le ce vendredi 16 janvier 2026. Cette exposition\, produite en collaboration avec la photographe Assala Saidi et la Maison des Cultures et de la Cohésion Sociale\, met en lumière les parcours\, les mémoires et les transmissions de trois générations de femmes issues de l’immigration marocaine en Belgique. À travers des panneaux thématiques et douze portraits accompagnés de récits\, l’exposition propose une mise en lumière féministe de l’histoire migratoire en Belgique. \nLe vernissage sera accompagné d’un moment convivial\, avec un concert de la chorale Zamâan AWSA (gratuit – réservation recommandée) et des douceurs salées et sucrées offertes. Un temps de rencontre et de partage pour célébrer les voix\, les trajectoires et les héritages des femmes marocaines en Belgique. \nLe vernissage aura lieu le vendredi 16 janvier à partir de 18h à la Maison des Cultures et de la Cohésion Sociale (4\, rue Mommaert 1080 Bruxelles). \nL’exposition sera accessible du 17 janvier au 10 février selon les horaires suivants : Lundi : 9h – 17h – Mardi au vendredi : 9h – 19h -Samedi : 10h – 13h
URL:https://www.amazone.be/event/vernissage-16-janvier-voies-des-femmes-limmigration-marocaine-en-belgique-awsa/
LOCATION:Maison des Cultures et de la Cohésion Sociale\, 4\, rue Mommaert\, Bruxelles\, 1080\, Belgium
CATEGORIES:Événement association habitante,Événements féministes
END:VEVENT
END:VCALENDAR