BEGIN:VCALENDAR
VERSION:2.0
PRODID:-//Amazone asbl - ECPv6.15.20//NONSGML v1.0//EN
CALSCALE:GREGORIAN
METHOD:PUBLISH
X-WR-CALNAME:Amazone asbl
X-ORIGINAL-URL:https://www.amazone.be
X-WR-CALDESC:Events voor Amazone asbl
REFRESH-INTERVAL;VALUE=DURATION:PT1H
X-Robots-Tag:noindex
X-PUBLISHED-TTL:PT1H
BEGIN:VTIMEZONE
TZID:Europe/Brussels
BEGIN:DAYLIGHT
TZOFFSETFROM:+0100
TZOFFSETTO:+0200
TZNAME:CEST
DTSTART:20250330T010000
END:DAYLIGHT
BEGIN:STANDARD
TZOFFSETFROM:+0200
TZOFFSETTO:+0100
TZNAME:CET
DTSTART:20251026T010000
END:STANDARD
BEGIN:DAYLIGHT
TZOFFSETFROM:+0100
TZOFFSETTO:+0200
TZNAME:CEST
DTSTART:20260329T010000
END:DAYLIGHT
BEGIN:STANDARD
TZOFFSETFROM:+0200
TZOFFSETTO:+0100
TZNAME:CET
DTSTART:20261025T010000
END:STANDARD
BEGIN:DAYLIGHT
TZOFFSETFROM:+0100
TZOFFSETTO:+0200
TZNAME:CEST
DTSTART:20270328T010000
END:DAYLIGHT
BEGIN:STANDARD
TZOFFSETFROM:+0200
TZOFFSETTO:+0100
TZNAME:CET
DTSTART:20271031T010000
END:STANDARD
END:VTIMEZONE
BEGIN:VEVENT
DTSTART;TZID=Europe/Brussels:20260521T160000
DTEND;TZID=Europe/Brussels:20260521T200000
DTSTAMP:20260422T211344
CREATED:20260422T083800Z
LAST-MODIFIED:20260422T083800Z
UID:25631-1779379200-1779393600@www.amazone.be
SUMMARY:Amazone Lentemarkt & "I love my day"-mars ter gelegenheid van de Internationale Dag van de Clitoris
DESCRIPTION:Amazone Lentemarkt  \n\nDonderdag 21 mei | 16:00 – 20:00 Amazone\, Middaglijnstraat 10\, 1210 Sint-Joost-ten-Node \n\nVoor de Amazone Lentemarkt zijn we opnieuw op zoek naar FINTA-artiesten (vrouwen\, intersekse personen\, non-binaire personen\, trans personen\, agender personen) die hun werk willen tentoonstellen én verkopen. Borduurwerk\, fanzines\, juwelen\, keramiek\, fotografie\, illustraties… Wat je ook maakt\, wij willen het zien. Jouw creativiteit verdient een podium! Doe je mee? Vertel ons via dit online formulier wat meer over jezelf en voeg enkele foto’s van je werk toe: https://forms.gle/GP7uZi5GKEEaYLZ3A \n\nDAGPROGRAMMA:\n16:00–20:00: De artiestenmarkt16:00–17:00: Bordjesworkshop “Teken mij een clitoris”17:00: Vertrek van de “I love my day”-mars ter gelegenheid van de Internationale Dag van de Clitoris (22 mei)\n 
URL:https://www.amazone.be/nl/event/amazone-lentemarkt-i-love-my-day-mars-ter-gelegenheid-van-de-internationale-dag-van-de-clitoris/
LOCATION:Amazone asbl\, Rue du Méridien 10\,\, Bruxelles\, 1210\, Belgique
CATEGORIES:Amazone evenementen,Feministische evenementen
END:VEVENT
END:VCALENDAR