BEGIN:VCALENDAR
VERSION:2.0
PRODID:-//Amazone asbl - ECPv6.15.20//NONSGML v1.0//EN
CALSCALE:GREGORIAN
METHOD:PUBLISH
X-WR-CALNAME:Amazone asbl
X-ORIGINAL-URL:https://www.amazone.be
X-WR-CALDESC:Events voor Amazone asbl
REFRESH-INTERVAL;VALUE=DURATION:PT1H
X-Robots-Tag:noindex
X-PUBLISHED-TTL:PT1H
BEGIN:VTIMEZONE
TZID:Europe/Brussels
BEGIN:DAYLIGHT
TZOFFSETFROM:+0100
TZOFFSETTO:+0200
TZNAME:CEST
DTSTART:20250330T010000
END:DAYLIGHT
BEGIN:STANDARD
TZOFFSETFROM:+0200
TZOFFSETTO:+0100
TZNAME:CET
DTSTART:20251026T010000
END:STANDARD
BEGIN:DAYLIGHT
TZOFFSETFROM:+0100
TZOFFSETTO:+0200
TZNAME:CEST
DTSTART:20260329T010000
END:DAYLIGHT
BEGIN:STANDARD
TZOFFSETFROM:+0200
TZOFFSETTO:+0100
TZNAME:CET
DTSTART:20261025T010000
END:STANDARD
BEGIN:DAYLIGHT
TZOFFSETFROM:+0100
TZOFFSETTO:+0200
TZNAME:CEST
DTSTART:20270328T010000
END:DAYLIGHT
BEGIN:STANDARD
TZOFFSETFROM:+0200
TZOFFSETTO:+0100
TZNAME:CET
DTSTART:20271031T010000
END:STANDARD
END:VTIMEZONE
BEGIN:VEVENT
DTSTART;VALUE=DATE:20260516
DTEND;VALUE=DATE:20260517
DTSTAMP:20260422T224632
CREATED:20260422T165337Z
LAST-MODIFIED:20260422T170057Z
UID:25682-1778889600-1778975999@www.amazone.be
SUMMARY:Brussels Pride | 16/05 🏳️‍🌈
DESCRIPTION:Afspraak zaterdag 16 mei 2026 – Samen vieren we 30 jaar Brussels Pride \nDit jaar vieren we 30 jaar Pride in Brussel. Dertig jaar strijd\, trots en zichtbaarheid voor de LGBTQIA+-community. Het thema voor 2026 geeft de uitdagingen weer van een wereld die onder spanning staat: When Times Get Darker\, We Shine Brighter. Een krachtige en verbindende boodschap\, meer dan ooit nodig in een internationaal verontrustend klimaat waarin de rechten van de LGBTQIA+-gemeenschap voortdurend onder druk staan. \nWanneer de tijden donkerder worden\, stralen we sterker\, trotser\, meer verenigd en zichtbaarder. \nHier vind je alle praktische informatie
URL:https://www.amazone.be/nl/event/brussels-pride-16-05-2026-3/
LOCATION:Mont des Arts\, Mont des Arts 1\, 1000 Bruxelles\, Bruxelles\, 1000\, Belgium
CATEGORIES:Feministische evenementen
END:VEVENT
END:VCALENDAR